BEGIN:VCALENDAR
VERSION:2.0
PRODID:-//Blanche Community - ECPv6.0.8//NONSGML v1.0//EN
CALSCALE:GREGORIAN
METHOD:PUBLISH
X-ORIGINAL-URL:https://blanchecommunity.org
X-WR-CALDESC:Events for Blanche Community
REFRESH-INTERVAL;VALUE=DURATION:PT1H
X-Robots-Tag:noindex
X-PUBLISHED-TTL:PT1H
BEGIN:VTIMEZONE
TZID:UTC
BEGIN:STANDARD
TZOFFSETFROM:+0000
TZOFFSETTO:+0000
TZNAME:UTC
DTSTART:20240101T000000
END:STANDARD
END:VTIMEZONE
BEGIN:VEVENT
DTSTART;VALUE=DATE:20240515
DTEND;VALUE=DATE:20240516
DTSTAMP:20260422T205925
CREATED:20240514T135651Z
LAST-MODIFIED:20240514T140739Z
UID:14798-1715731200-1715817599@blanchecommunity.org
SUMMARY:Parent General Meeting
DESCRIPTION:
URL:https://blanchecommunity.org/event/parent-general-meeting/
ATTACH;FMTTYPE=image/jpeg:https://blanchecommunity.org/wp-content/uploads/2024/05/parent-meeting-3.jpg
END:VEVENT
END:VCALENDAR