BEGIN:VCALENDAR
VERSION:2.0
PRODID:-//Blanche Community - ECPv6.0.8//NONSGML v1.0//EN
CALSCALE:GREGORIAN
METHOD:PUBLISH
X-ORIGINAL-URL:https://blanchecommunity.org
X-WR-CALDESC:Events for Blanche Community
REFRESH-INTERVAL;VALUE=DURATION:PT1H
X-Robots-Tag:noindex
X-PUBLISHED-TTL:PT1H
BEGIN:VTIMEZONE
TZID:UTC
BEGIN:STANDARD
TZOFFSETFROM:+0000
TZOFFSETTO:+0000
TZNAME:UTC
DTSTART:20240101T000000
END:STANDARD
END:VTIMEZONE
BEGIN:VEVENT
DTSTART;VALUE=DATE:20240527
DTEND;VALUE=DATE:20240528
DTSTAMP:20260423T062519
CREATED:20240514T140043Z
LAST-MODIFIED:20240514T140043Z
UID:14803-1716768000-1716854399@blanchecommunity.org
SUMMARY:Observation Of Memorial Day
DESCRIPTION:School will be closed.
URL:https://blanchecommunity.org/event/observation-of-memorial-day/
ATTACH;FMTTYPE=image/jpeg:https://blanchecommunity.org/wp-content/uploads/2024/05/memday.jpg
END:VEVENT
END:VCALENDAR