BEGIN:VCALENDAR
VERSION:2.0
PRODID:-//Blanche Community - ECPv6.0.8//NONSGML v1.0//EN
CALSCALE:GREGORIAN
METHOD:PUBLISH
X-WR-CALNAME:Blanche Community
X-ORIGINAL-URL:https://blanchecommunity.org
X-WR-CALDESC:Events for Blanche Community
REFRESH-INTERVAL;VALUE=DURATION:PT1H
X-Robots-Tag:noindex
X-PUBLISHED-TTL:PT1H
BEGIN:VTIMEZONE
TZID:UTC
BEGIN:STANDARD
TZOFFSETFROM:+0000
TZOFFSETTO:+0000
TZNAME:UTC
DTSTART:20240101T000000
END:STANDARD
END:VTIMEZONE
BEGIN:VEVENT
DTSTART;TZID=UTC:20240514T140000
DTEND;TZID=UTC:20240514T170000
DTSTAMP:20260422T222057
CREATED:20240514T135827Z
LAST-MODIFIED:20240514T135827Z
UID:14801-1715695200-1715706000@blanchecommunity.org
SUMMARY:Lobby Presentation - Blanche Site 2
DESCRIPTION:
URL:https://blanchecommunity.org/event/lobby-presentation-blanche-site-2/
ATTACH;FMTTYPE=image/jpeg:https://blanchecommunity.org/wp-content/uploads/2023/04/abcart.jpg
END:VEVENT
BEGIN:VEVENT
DTSTART;VALUE=DATE:20240515
DTEND;VALUE=DATE:20240516
DTSTAMP:20260422T222057
CREATED:20240514T135651Z
LAST-MODIFIED:20240514T140739Z
UID:14798-1715731200-1715817599@blanchecommunity.org
SUMMARY:Parent General Meeting
DESCRIPTION:
URL:https://blanchecommunity.org/event/parent-general-meeting/
ATTACH;FMTTYPE=image/jpeg:https://blanchecommunity.org/wp-content/uploads/2024/05/parent-meeting-3.jpg
END:VEVENT
BEGIN:VEVENT
DTSTART;TZID=UTC:20240521T160000
DTEND;TZID=UTC:20240521T180000
DTSTAMP:20260422T222057
CREATED:20240514T135021Z
LAST-MODIFIED:20240514T135021Z
UID:14790-1716307200-1716314400@blanchecommunity.org
SUMMARY:Open House  - Enrollment for Blanche Site 2
DESCRIPTION:
URL:https://blanchecommunity.org/event/open-house-enrollment-for-blanche-site-2/
ATTACH;FMTTYPE=image/jpeg:https://blanchecommunity.org/wp-content/uploads/2024/05/admissions-open-house.jpg
END:VEVENT
BEGIN:VEVENT
DTSTART;TZID=UTC:20240522T090000
DTEND;TZID=UTC:20240522T110000
DTSTAMP:20260422T222057
CREATED:20240514T135127Z
LAST-MODIFIED:20240514T135354Z
UID:14793-1716368400-1716375600@blanchecommunity.org
SUMMARY:Open House - Enrollment for Blanche Site 1
DESCRIPTION:
URL:https://blanchecommunity.org/event/open-house-enrollment-for-blanche-site-1/
ATTACH;FMTTYPE=image/jpeg:https://blanchecommunity.org/wp-content/uploads/2024/05/admissions-open-house.jpg
END:VEVENT
BEGIN:VEVENT
DTSTART;VALUE=DATE:20240524
DTEND;VALUE=DATE:20240525
DTSTAMP:20260422T222057
CREATED:20240514T140601Z
LAST-MODIFIED:20240519T123048Z
UID:14806-1716508800-1716595199@blanchecommunity.org
SUMMARY:Professional Development  - School Closed
DESCRIPTION:School will be closed
URL:https://blanchecommunity.org/event/professional-development-school-closed/
ATTACH;FMTTYPE=image/jpeg:https://blanchecommunity.org/wp-content/uploads/2024/05/SCHOOL-CLOSED.jpg
END:VEVENT
BEGIN:VEVENT
DTSTART;VALUE=DATE:20240527
DTEND;VALUE=DATE:20240528
DTSTAMP:20260422T222057
CREATED:20240514T140043Z
LAST-MODIFIED:20240514T140043Z
UID:14803-1716768000-1716854399@blanchecommunity.org
SUMMARY:Observation Of Memorial Day
DESCRIPTION:School will be closed.
URL:https://blanchecommunity.org/event/observation-of-memorial-day/
ATTACH;FMTTYPE=image/jpeg:https://blanchecommunity.org/wp-content/uploads/2024/05/memday.jpg
END:VEVENT
END:VCALENDAR